BEGIN:VCALENDAR
VERSION:2.0
PRODID:-//SG Siemens München Ost e.V. - ECPv6.15.17//NONSGML v1.0//EN
CALSCALE:GREGORIAN
METHOD:PUBLISH
X-ORIGINAL-URL:https://sg-siemens-ost.de
X-WR-CALDESC:Veranstaltungen für SG Siemens München Ost e.V.
REFRESH-INTERVAL;VALUE=DURATION:PT1H
X-Robots-Tag:noindex
X-PUBLISHED-TTL:PT1H
BEGIN:VTIMEZONE
TZID:Europe/Berlin
BEGIN:DAYLIGHT
TZOFFSETFROM:+0100
TZOFFSETTO:+0200
TZNAME:CEST
DTSTART:20190331T010000
END:DAYLIGHT
BEGIN:STANDARD
TZOFFSETFROM:+0200
TZOFFSETTO:+0100
TZNAME:CET
DTSTART:20191027T010000
END:STANDARD
BEGIN:DAYLIGHT
TZOFFSETFROM:+0100
TZOFFSETTO:+0200
TZNAME:CEST
DTSTART:20200329T010000
END:DAYLIGHT
BEGIN:STANDARD
TZOFFSETFROM:+0200
TZOFFSETTO:+0100
TZNAME:CET
DTSTART:20201025T010000
END:STANDARD
BEGIN:DAYLIGHT
TZOFFSETFROM:+0100
TZOFFSETTO:+0200
TZNAME:CEST
DTSTART:20210328T010000
END:DAYLIGHT
BEGIN:STANDARD
TZOFFSETFROM:+0200
TZOFFSETTO:+0100
TZNAME:CET
DTSTART:20211031T010000
END:STANDARD
BEGIN:DAYLIGHT
TZOFFSETFROM:+0100
TZOFFSETTO:+0200
TZNAME:CEST
DTSTART:20220327T010000
END:DAYLIGHT
BEGIN:STANDARD
TZOFFSETFROM:+0200
TZOFFSETTO:+0100
TZNAME:CET
DTSTART:20221030T010000
END:STANDARD
BEGIN:DAYLIGHT
TZOFFSETFROM:+0100
TZOFFSETTO:+0200
TZNAME:CEST
DTSTART:20230326T010000
END:DAYLIGHT
BEGIN:STANDARD
TZOFFSETFROM:+0200
TZOFFSETTO:+0100
TZNAME:CET
DTSTART:20231029T010000
END:STANDARD
BEGIN:DAYLIGHT
TZOFFSETFROM:+0100
TZOFFSETTO:+0200
TZNAME:CEST
DTSTART:20240331T010000
END:DAYLIGHT
BEGIN:STANDARD
TZOFFSETFROM:+0200
TZOFFSETTO:+0100
TZNAME:CET
DTSTART:20241027T010000
END:STANDARD
BEGIN:DAYLIGHT
TZOFFSETFROM:+0100
TZOFFSETTO:+0200
TZNAME:CEST
DTSTART:20250330T010000
END:DAYLIGHT
BEGIN:STANDARD
TZOFFSETFROM:+0200
TZOFFSETTO:+0100
TZNAME:CET
DTSTART:20251026T010000
END:STANDARD
BEGIN:DAYLIGHT
TZOFFSETFROM:+0100
TZOFFSETTO:+0200
TZNAME:CEST
DTSTART:20260329T010000
END:DAYLIGHT
BEGIN:STANDARD
TZOFFSETFROM:+0200
TZOFFSETTO:+0100
TZNAME:CET
DTSTART:20261025T010000
END:STANDARD
BEGIN:DAYLIGHT
TZOFFSETFROM:+0100
TZOFFSETTO:+0200
TZNAME:CEST
DTSTART:20270328T010000
END:DAYLIGHT
BEGIN:STANDARD
TZOFFSETFROM:+0200
TZOFFSETTO:+0100
TZNAME:CET
DTSTART:20271031T010000
END:STANDARD
END:VTIMEZONE
BEGIN:VEVENT
DTSTART;TZID=Europe/Berlin:20260227T190000
DTEND;TZID=Europe/Berlin:20260227T210000
DTSTAMP:20260423T101707
CREATED:20210918T101508Z
LAST-MODIFIED:20260206T140452Z
UID:6611-1772218800-1772226000@sg-siemens-ost.de
SUMMARY:Mitglieder-Jahresversammlung 2026
DESCRIPTION:Die Einladung zur Versammlung mit der Tagesordnung wurde am 6.02.2026 im Verein plakatiert! \nDer Vorstand freut sich auf eine rege Beteiligung der Mitglieder\, die auch eine Chance bietet\,\nsich über den Verein zu informieren und eigene Anliegen vorzubringen. \n 
URL:https://sg-siemens-ost.de/event/mitglieder-jahresversammlung/
LOCATION:Tischtennisraum im UG
CATEGORIES:Verein
END:VEVENT
BEGIN:VEVENT
DTSTART;TZID=Europe/Berlin:20251115T170000
DTEND;TZID=Europe/Berlin:20251115T213000
DTSTAMP:20260423T101707
CREATED:20221009T154342Z
LAST-MODIFIED:20250916T093411Z
UID:8098-1763226000-1763242200@sg-siemens-ost.de
SUMMARY:Jubilarfeier 2025
DESCRIPTION:Wir ehren am Samstag den 15. Nov. 2025 unsere Jubilare des Jahres 2025.
URL:https://sg-siemens-ost.de/event/jubilarfeier/
LOCATION:Tischtennisraum im UG
CATEGORIES:Verein
END:VEVENT
BEGIN:VEVENT
DTSTART;TZID=Europe/Berlin:20250101T100000
DTEND;TZID=Europe/Berlin:20251230T220000
DTSTAMP:20260423T101707
CREATED:20200305T111013Z
LAST-MODIFIED:20250202T180528Z
UID:5092-1735725600-1767132000@sg-siemens-ost.de
SUMMARY:Veranstaltungskalender Sportkegeln 2025
DESCRIPTION:Liebe Mitglieder der Kegelabteilung\, der Vorstand lädt Euch zu folgenden Veranstaltungen ein: \nJahreshauptversammlung  am 12. Mai. um 18:00 Uhr\nSportwoche vom 07. – 11. Juli\, von 16:00 bis 22:00 Uhr\nGrillfest   wetterabhängig   am 19. oder 26. Juli\nWeihnachtsfeier   am 13. Dezember  von 17:00 – 23:00 Uhr
URL:https://sg-siemens-ost.de/event/veranstaltungskalender-sportkegeln-2020/
LOCATION:Kegelhalle im UG
CATEGORIES:Sportkegeln
END:VEVENT
BEGIN:VEVENT
DTSTART;TZID=Europe/Berlin:20230715T100000
DTEND;TZID=Europe/Berlin:20230715T170000
DTSTAMP:20260423T101707
CREATED:20230329T080121Z
LAST-MODIFIED:20230329T080212Z
UID:8333-1689415200-1689440400@sg-siemens-ost.de
SUMMARY:Spartenturnier 2023
DESCRIPTION:Liebe Sportlerinnen und Sportler\,\nnach der Pandemie findet heuer wieder ein Spartenturnier statt.\nDer Vorstand freut sich über eine rege Beteiligung aus allen Abteilungen und Sportgruppen. \nEine gesonderte Einladung folgt.
URL:https://sg-siemens-ost.de/event/spartenturnier-2023/
LOCATION:in der Halle und den Räumen im UG
CATEGORIES:Verein
END:VEVENT
BEGIN:VEVENT
DTSTART;TZID=Europe/Berlin:20230620T183000
DTEND;TZID=Europe/Berlin:20230620T210000
DTSTAMP:20260423T101707
CREATED:20221009T154902Z
LAST-MODIFIED:20230329T080420Z
UID:8103-1687285800-1687294800@sg-siemens-ost.de
SUMMARY:Vereinsausschusssitzung
DESCRIPTION:Der Vorstand bittet um zahlreiches Erscheinen der Abteilungsleiter bzw. bei Verhinderung Entsenden einer Vertretung.
URL:https://sg-siemens-ost.de/event/jubilarfeier-2/
LOCATION:Tischtennisraum im UG
CATEGORIES:Verein
END:VEVENT
BEGIN:VEVENT
DTSTART;TZID=Europe/Berlin:20221210T180000
DTEND;TZID=Europe/Berlin:20221210T230000
DTSTAMP:20260423T101707
CREATED:20200128T103637Z
LAST-MODIFIED:20221009T160633Z
UID:4775-1670695200-1670713200@sg-siemens-ost.de
SUMMARY:Weihnachtsfeier 2022
DESCRIPTION:Der Vorstand freut sich auf Euer zahlreiches Erscheinen.
URL:https://sg-siemens-ost.de/event/weihnachtsfeier-3/
LOCATION:Kegelhalle im UG
CATEGORIES:Sportkegeln
END:VEVENT
BEGIN:VEVENT
DTSTART;TZID=Europe/Berlin:20211218T100000
DTEND;TZID=Europe/Berlin:20211218T180000
DTSTAMP:20260423T101707
CREATED:20211128T193755Z
LAST-MODIFIED:20211128T202800Z
UID:7326-1639821600-1639850400@sg-siemens-ost.de
SUMMARY:Tischtennis-Weihnachtsturnier
DESCRIPTION:18.12.2021 Tischtennis-Weihnachtsturnier \nAnmeldung per Mail an ttsiemens@t-online.de. Bitte mit Angabe von Vor- und Nachnamen sowie – falls vorhanden – der FBR/TTR-Bewertung.
URL:https://sg-siemens-ost.de/event/tischtennis-weihnachtsturnier/
LOCATION:Mehrzweckraum im UG
END:VEVENT
BEGIN:VEVENT
DTSTART;TZID=Europe/Berlin:20200713T210000
DTEND;TZID=Europe/Berlin:20200713T230000
DTSTAMP:20260423T101707
CREATED:20200709T120645Z
LAST-MODIFIED:20200714T065647Z
UID:5359-1594674000-1594681200@sg-siemens-ost.de
SUMMARY:Tischtennis Training
DESCRIPTION:Nachdem es Schwierigkeiten mit einigen Verlinkungen gab\, \nfindet jetzt die Anmeldung über Doodle statt: \nhttps://doodle.com/poll/uf8gzsx7w3tk7bkh \nSiemensOst-TT-Trainings-Planung \n 
URL:https://sg-siemens-ost.de/event/tischtennis-training/
LOCATION:in der Halle und den Räumen im UG
CATEGORIES:Tischtennis
END:VEVENT
END:VCALENDAR